BEGIN:VCALENDAR
VERSION:2.0
CALSCALE:GREGORIAN
BEGIN:VEVENT
SUMMARY:Vinyāsa Yoga Suave
DTSTART;TZID=Europe/Madrid:20260309T164500
DTEND;TZID=Europe/Madrid:20260309T174500
LOCATION:Mukta Yoga
DESCRIPTION: Clase de Vinyāsa yoga multinivel inspirada en el método de Navakaraṇa Vinyāsa donde pondremos el foco en alinear bien el cuerpo y fluir a través de una respiración consciente y potente.
STATUS:CONFIRMED
SEQUENCE:0
END:VEVENT
END:VCALENDAR