BEGIN:VCALENDAR
VERSION:2.0
CALSCALE:GREGORIAN
BEGIN:VEVENT
SUMMARY:Vinyāsa yoga
DTSTART;TZID=Europe/Madrid:20260430T190000
DTEND;TZID=Europe/Madrid:20260430T201500
LOCATION:Mukta Yoga
DESCRIPTION: Clase multinivel de Vinyāsa yoga donde fluiremos acompasando el movimiento con una respiración muy potente y consciente y trabajando siempre con las proporciones de cada cuerpo. Cada día será diferente poniendo el foco en trabajar distintas partes de nuestro cuerpo. Son clases basadas en la metodología Navakaraṇa vinyāsa
STATUS:CONFIRMED
SEQUENCE:0
END:VEVENT
END:VCALENDAR