BEGIN:VCALENDAR
VERSION:2.0
CALSCALE:GREGORIAN
BEGIN:VEVENT
SUMMARY:Vinyāsa yoga suave
DTSTART;TZID=Europe/Madrid:20260403T093000
DTEND;TZID=Europe/Madrid:20260403T103000
LOCATION:Mukta Yoga
DESCRIPTION: Clase de Vinyāsa yoga para principiantes. Si no has hecho yoga nunca o te apetece repasar las bases, esta es la mejor opción para empezar esta disciplina
STATUS:CONFIRMED
SEQUENCE:0
END:VEVENT
END:VCALENDAR