BEGIN:VCALENDAR
VERSION:2.0
CALSCALE:GREGORIAN
BEGIN:VEVENT
SUMMARY:Sunday-calming-Klangbad
DTSTART;TZID=Europe/Berlin:20250914T190000
DTEND;TZID=Europe/Berlin:20250914T200000
LOCATION:Fmgz Nürnberg
DESCRIPTION: ✨ Sunday Calming Klangbad – nur für Frauen &amp; FLINTA*

🌙 Sonntagabend – loslassen, auftanken, ankommen
🎶 Sanfte Klänge – von Gong bis Ocean Drum
🪷 Tiefe Entspannung – nichts tun, nur lauschen
🛋️ Gemütlich im Liegen, warme Kleidung empfohlen
🧠 Frequenzen, die Gehirnwellen verlangsamen
💭 Vom aktiven Denken in Traumzustände gleiten
🌸 Erdung, Klarheit, Leichtigkeit für die neue Woche
📍 FMGZ Nürnberg – durch den Innenhof, links, 2. Stock

🌺 Drop-in: 15 €
STATUS:CONFIRMED
SEQUENCE:0
END:VEVENT
END:VCALENDAR