BEGIN:VCALENDAR
VERSION:2.0
CALSCALE:GREGORIAN
BEGIN:VEVENT
SUMMARY:Yoga enfants 6-11 ans : Préparons la rentrée !
DTSTART;TZID=Europe/Paris:20220829T140000
DTEND;TZID=Europe/Paris:20220829T160000
LOCATION:Eden
DESCRIPTION: Pour aborder cette rentrée avec sérénité, quoi de mieux que de se retrouver lors d&#039;un atelier de yoga enfant !
On va danser, jouer, se défouler, faire des postures , respirer ....et même une petite surprise en fin de séance.
Prix 30€ à payer sur place 😊
STATUS:CONFIRMED
SEQUENCE:0
END:VEVENT
END:VCALENDAR