BEGIN:VCALENDAR
VERSION:2.0
CALSCALE:GREGORIAN
BEGIN:VEVENT
SUMMARY:YOGA&#039;PERO 🙏🍷 1h de yoga suivi d&#039;une dégustation de vin !
DTSTART;TZID=Europe/Paris:20220910T103000
DTEND;TZID=Europe/Paris:20220910T123000
LOCATION:La Vinifacture, 46 rue Barrouin, 42000 St Etienne
DESCRIPTION: Pour bien commencer le we, nous vous proposons 1h de yoga Vinyasa à la Vinifacture, suivie d&#039;une dégustation de vin et de quelques tapas healthy préparés par Piermick !
Le cours de yoga sera accessible à tous, débutants ou confirmés. Seule une tenue confortable est demandée, tout le reste sera fourni !
Paiement en ligne sur notre site &quot;pass yoga&#039;péro&quot; / 25€ par personne
STATUS:CONFIRMED
SEQUENCE:0
END:VEVENT
END:VCALENDAR