BEGIN:VCALENDAR
VERSION:2.0
CALSCALE:GREGORIAN
BEGIN:VEVENT
SUMMARY:Cours découverte gratuit : danse prénatale et danse avec bébé !
DTSTART;TZID=Europe/Paris:20220903T160000
DTEND;TZID=Europe/Paris:20220903T170000
LOCATION:Eden
DESCRIPTION: Viens bercer ton bébé qu’il soit dans ton ventre ou dans tes bras, le temps d’une parenthèse d’une heure dans ton quotidien de maman.

Viens délier ton corps, te recentrer, t’ancrer, partager un chouette moment avec d’autres jeunes ou futures mamas. 

L’atelier se découpe en plusieurs temps :
plusieurs séquences dansées 
mouvements libres ou dirigés 
détentes corporelles et relaxations
Bulle d’intimité et connection avec bébé 
Échanges entre participantes 

Il n’y a aucun pré-requis.

Les ateliers sont ouverts aux futures mamans dès le premier trimestre de grossesse, et peuvent être poursuivis ou commencés dans les premières semaines du post-partum sans souci. 
Pour les bébés de la naissance jusqu’à leurs premiers pas.
STATUS:CONFIRMED
SEQUENCE:0
END:VEVENT
END:VCALENDAR