BEGIN:VCALENDAR
VERSION:2.0
CALSCALE:GREGORIAN
BEGIN:VEVENT
SUMMARY:YOGA DECOUVERTE GRATUIT AUX HALLES MAZERAT !
DTSTART;TZID=Europe/Paris:20220911T093000
DTEND;TZID=Europe/Paris:20220911T103000
LOCATION:Halles Mazerat
DESCRIPTION: Pour fêter le 1er anniversaire des Halles Mazerat, nous vous proposons une pratique découverte gratuite de yoga, accessible à tous.
Pour bien commencer votre journée, rejoignez nous avec une tenue confortable, nous nous occupons du reste !
STATUS:CONFIRMED
SEQUENCE:0
END:VEVENT
END:VCALENDAR