BEGIN:VCALENDAR
VERSION:2.0
CALSCALE:GREGORIAN
BEGIN:VEVENT
SUMMARY:Yoga Ashtanga - Yoga (très) dynamique - Cours de rentrée gratuit - Ergué Armel
DTSTART;TZID=Europe/Paris:20250902T194500
DTEND;TZID=Europe/Paris:20250902T204500
LOCATION:5 rue madame de sévigné - Ergué Armel - Quimper
DESCRIPTION: C’est un yoga dynamique, où les postures s’enchaînent les unes après les autres de manière fluide (l’enchaînement en lui-même s’appelle un vinyasa). La série est toujours structurée de la même façon : salutations au soleil, postures debout, postures assises, flexions arrières, savasana. Les postures sont toujours les mêmes, les postures ne changent pas, mais vous, vous changez :)

Portez des vêtements dans lesquels vous êtes à l’aise.
Apportez votre tapis (si vous n&#039;en avez pas, dites le moi), briques et sangles si vous en avez (disponibles sur place également).
Apportez un plaid, une petite couverture pour les fins de pratique.

Tarifs : paiement sur place en espèce, cheque ou virement 
15€ la séance 
Carte 5 séances : 65 € 
Carte 10 séances : 120 €
Carte 35 séances : 390 €
Les cartes sont valables dans tous les cours et toutes les salles
STATUS:CONFIRMED
SEQUENCE:0
END:VEVENT
END:VCALENDAR