BEGIN:VCALENDAR
VERSION:2.0
CALSCALE:GREGORIAN
BEGIN:VEVENT
SUMMARY:Yoga Vinyasa - Yoga dynamique - Maison Canopée
DTSTART;TZID=Europe/Paris:20251029T183000
DTEND;TZID=Europe/Paris:20251029T193000
LOCATION:Maison Canopée 2 chemin de Lost Ar C&#039;hoat - Quimper
DESCRIPTION: Pour tous ! Débutant.e.s ou non, souple ou non, spirituel ou non... le yoga est adaptée à toutes et tous !
Le yoga vinyasa dynamique est destiné aux personnes plutôt en bonne condition physique (mais tout est adaptable ! :)) 
Portez des vêtements dans lesquels vous êtes à l’aise.
Apportez votre tapis, briques et sangles si vous en avez (disponibles sur place également).
Apportez un plaid, une petite couverture pour les fins de pratique.

Tarifs : paiement sur place en espèce, cheque ou virement 
15€ la séance 
Carte 5 séances : 65 € 
Carte 10 séances : 120 €
Carte 35 séances : 390 €
Les cartes sont valables dans tous les cours et toutes les salles
STATUS:CONFIRMED
SEQUENCE:0
END:VEVENT
END:VCALENDAR