BEGIN:VCALENDAR
VERSION:2.0
CALSCALE:GREGORIAN
BEGIN:VEVENT
SUMMARY:Fusion Yoga
DTSTART;TZID=Europe/Amsterdam:20210809T194500
DTEND;TZID=Europe/Amsterdam:20210809T204500
LOCATION:Studio
DESCRIPTION: Een mix van BBB , Yin en Yang
STATUS:CONFIRMED
SEQUENCE:0
END:VEVENT
END:VCALENDAR