BEGIN:VCALENDAR
VERSION:2.0
CALSCALE:GREGORIAN
BEGIN:VEVENT
SUMMARY:Flow - 45 minuten
DTSTART;TZID=Europe/Amsterdam:20211201T081500
DTEND;TZID=Europe/Amsterdam:20211201T090000
LOCATION:Studio
DESCRIPTION: 
STATUS:CONFIRMED
SEQUENCE:0
END:VEVENT
END:VCALENDAR