BEGIN:VCALENDAR
VERSION:2.0
CALSCALE:GREGORIAN
BEGIN:VEVENT
SUMMARY:Flow - Park Vreugd &amp; Rust
DTSTART;TZID=Europe/Amsterdam:20210814T100000
DTEND;TZID=Europe/Amsterdam:20210814T110000
LOCATION:Park Vreugd en Rust
DESCRIPTION: 
STATUS:CONFIRMED
SEQUENCE:0
END:VEVENT
END:VCALENDAR