BEGIN:VCALENDAR
VERSION:2.0
CALSCALE:GREGORIAN
BEGIN:VEVENT
SUMMARY:Yin/restorative Yoga
DTSTART;TZID=Europe/Amsterdam:20210902T184500
DTEND;TZID=Europe/Amsterdam:20210902T194500
LOCATION:Studio
DESCRIPTION: Hier mag je uitrusten
STATUS:CONFIRMED
SEQUENCE:0
END:VEVENT
END:VCALENDAR