BEGIN:VCALENDAR
VERSION:2.0
CALSCALE:GREGORIAN
BEGIN:VEVENT
SUMMARY:Hatha Yoga - te weinig aanmeldingen
DTSTART;TZID=Europe/Amsterdam:20220323T200000
DTEND;TZID=Europe/Amsterdam:20220323T210000
LOCATION:Studio
DESCRIPTION: Wees lief voor jezelf
STATUS:CONFIRMED
SEQUENCE:0
END:VEVENT
END:VCALENDAR