BEGIN:VCALENDAR
VERSION:2.0
CALSCALE:GREGORIAN
BEGIN:VEVENT
SUMMARY:YIN YOGA
DTSTART;TZID=Europe/Paris:20260417T190000
DTEND;TZID=Europe/Paris:20260417T201500
LOCATION:5 Av. G Bataille - 60330 Le Plessis-B - Bât. C - 3ème ét. - à droite au bout du couloir
DESCRIPTION: Le yin yoga est une pratique posturale douce de yoga invitant à la relaxation . Le matériel est fourni.
STATUS:CONFIRMED
SEQUENCE:0
END:VEVENT
END:VCALENDAR