BEGIN:VCALENDAR
VERSION:2.0
CALSCALE:GREGORIAN
BEGIN:VEVENT
SUMMARY:Duoles Yin Yoga
DTSTART;TZID=Europe/Amsterdam:20210531T183000
DTEND;TZID=Europe/Amsterdam:20210531T193000
LOCATION:Puik haar
DESCRIPTION: Met zijn 2-en genieten van een heerlijke Yin Yoga les? Dat kan!
Deelname €30 pp
STATUS:CONFIRMED
SEQUENCE:0
END:VEVENT
END:VCALENDAR