BEGIN:VCALENDAR
VERSION:2.0
CALSCALE:GREGORIAN
BEGIN:VEVENT
SUMMARY:Yin Yoga
DTSTART;TZID=Europe/Amsterdam:20220113T093000
DTEND;TZID=Europe/Amsterdam:20220113T104500
LOCATION:Thuis
DESCRIPTION: Ivm de huidige coronamaatregelen is deze les online. Kun je niet op dit tijdstip maar wil je wel de les doen meld je dan aan. Je krijgt de opname van de les via de mail toegstuurd en kunt de les dan op je eigen moment volgen.
Een half uur voor de les ontvang je een mail met de link.
Vanaf 10 min voor de les kun je in de &quot;wachtruimte&quot; en kan ik je helpen met de instellingen.
STATUS:CONFIRMED
SEQUENCE:0
END:VEVENT
END:VCALENDAR