BEGIN:VCALENDAR
VERSION:2.0
CALSCALE:GREGORIAN
BEGIN:VEVENT
SUMMARY:Namah Yoga dagretreat! Stiltedag!
DTSTART;TZID=Europe/Amsterdam:20231207T100000
DTEND;TZID=Europe/Amsterdam:20231207T160000
LOCATION:Landgoed Bleijendijk Vught
DESCRIPTION: Namah Yoga organiseert een Yoga dagretreat! Een dag in het teken staan van ruimte maken voor je zelf.
De dag zal in stilte zijn, om ruimte te creëren echt voor jezelf. Een hele dag vol met Yoga, ademoefeningen, meditatie, verstilling, wandelen en Yoga Nidra. Er is de hele dag yogithee en er wordt een heerlijke vegetarische lunch geserveerd. 

Het dagretreat vindt plaats in het jagershuis op landgoed Bleijendijk in Vught. Een heerlijke plek midden in de natuur.

Wil je mee doen?

Deelname: €95

Datum: donderdag 7 december 2023

Tijd: 9.30-16.00 uur
9.30-10.00 uur inloop met thee en iets lekkers. 10.00 uur starten we de stiltedag. Einde van het dagretreat  is om 16.00 uur.
STATUS:CONFIRMED
SEQUENCE:0
END:VEVENT
END:VCALENDAR