BEGIN:VCALENDAR
VERSION:2.0
CALSCALE:GREGORIAN
BEGIN:VEVENT
SUMMARY:Yin Yoga XL, thema winter. Verstilling in zijn puurste vorm.
DTSTART;TZID=Europe/Amsterdam:20251214T100000
DTEND;TZID=Europe/Amsterdam:20251214T120000
LOCATION:De Vliert
DESCRIPTION: Een extra lange Yin Yoga les rond het thema Winter, verstilling, reflectie en het loslaten van spanning van kruin tot staart, dmv verschillende yinhoudingen en zachte oefeningen gericht op releasing van de psoasspier

We sluiten de les af met thee en lekkers. 

Kosteloos annuleren kan tot 24 uur voor aanvang van de les.
STATUS:CONFIRMED
SEQUENCE:0
END:VEVENT
END:VCALENDAR