BEGIN:VCALENDAR
VERSION:2.0
CALSCALE:GREGORIAN
BEGIN:VEVENT
SUMMARY:Holistisch dagretreat samen met studio Chi
DTSTART;TZID=Europe/Amsterdam:20260321T100000
DTEND;TZID=Europe/Amsterdam:20260321T160000
LOCATION:Gewande
DESCRIPTION: Gun jezelf een dag vol zachtheid, verdieping en verzorging.
Wij, Natascha en Lieke (www.studiochibijlieke.nl) bundelen op deze dag onze liefdevolle aandacht en nodigen jou uit voor een unieke retreatdag waarin innerlijke rust en uiterlijke schoonheid samenkomen. 🌿

💫 Wat kun je verwachten?
❤️ Cacaoceremonie
🧘‍♀️ Yinyoga met reiki-energie
🌸 Workshop gezichtsmassage &amp; huidverzorging en cupping
🥗 Heerlijke vegetarische lunch
🛌 Met mindful movements, fascia dance en bouncing om de beweging van de lente te stimuleren.
💛 Tijd voor jezelf, verbondenheid en holistische selfcare

🗓 Datum: Zaterdag 21 maart 2026
Thema Lente-in bloei komen!
🕙 Tijd: 10.00u - 16.00u
📍 Locatie: Tour the koe. Rosmalensedijk 4, Gewande
💰 €135
🧺 Voor iedereen die op zoek is naar ontspanning, glow van binnenuit én pure verwenning.

Let op: er is een beperkt aantal plekken.
Gun jezelf deze dag vol liefdevolle aandacht.
STATUS:CONFIRMED
SEQUENCE:0
END:VEVENT
END:VCALENDAR