BEGIN:VCALENDAR
VERSION:2.0
CALSCALE:GREGORIAN
BEGIN:VEVENT
SUMMARY:Yin Yoga XL Esther
DTSTART;TZID=Europe/Amsterdam:20200912T133000
DTEND;TZID=Europe/Amsterdam:20200912T150000
LOCATION:Puik haar
DESCRIPTION: Een extra lange Yin Yoga les met steeds een wisselend thema of aandachtsgebied.
STATUS:CONFIRMED
SEQUENCE:0
END:VEVENT
END:VCALENDAR