BEGIN:VCALENDAR
VERSION:2.0
CALSCALE:GREGORIAN
BEGIN:VEVENT
SUMMARY:VINYASA YOGA
DTSTART;TZID=Europe/Madrid:20230626T091500
DTEND;TZID=Europe/Madrid:20230626T103000
LOCATION:
DESCRIPTION: Las clases de Vinyasa Flow son prácticas dinámicas en las que nos movemos continuamente de postura en postura. La mayoría de las posturas se mantienen durante sólo unas pocas respiraciones antes de hacer la transición a la siguiente postura.
STATUS:CONFIRMED
SEQUENCE:0
END:VEVENT
END:VCALENDAR