BEGIN:VCALENDAR
VERSION:2.0
CALSCALE:GREGORIAN
BEGIN:VEVENT
SUMMARY:Respirarte ~La respiración como ciencia y arte~
DTSTART;TZID=Europe/Madrid:20250617T193000
DTEND;TZID=Europe/Madrid:20250617T203000
LOCATION:Presencial
DESCRIPTION: 
STATUS:CONFIRMED
SEQUENCE:0
END:VEVENT
END:VCALENDAR