BEGIN:VCALENDAR
VERSION:2.0
CALSCALE:GREGORIAN
BEGIN:VEVENT
SUMMARY:Taller de Iniciación al Yoga
DTSTART;TZID=Europe/Madrid:20250907T180000
DTEND;TZID=Europe/Madrid:20250907T203000
LOCATION:Presencial
DESCRIPTION: 
STATUS:CONFIRMED
SEQUENCE:0
END:VEVENT
END:VCALENDAR