BEGIN:VCALENDAR
VERSION:2.0
CALSCALE:GREGORIAN
BEGIN:VEVENT
SUMMARY:Superpraktika Yoga detox
DTSTART;TZID=Europe/Madrid:20260110T100000
DTEND;TZID=Europe/Madrid:20260110T133000
LOCATION:Presencial
DESCRIPTION: Kriyas
Vinyasa
Pranayama
Nidra
Meditación
STATUS:CONFIRMED
SEQUENCE:0
END:VEVENT
END:VCALENDAR