BEGIN:VCALENDAR
VERSION:2.0
CALSCALE:GREGORIAN
BEGIN:VEVENT
SUMMARY:Ashtanga Foundations
DTSTART;TZID=Australia/Brisbane:20220714T173000
DTEND;TZID=Australia/Brisbane:20220714T184500
LOCATION:Nambour
DESCRIPTION: A guided modified half primary series class suitable for beginners
STATUS:CONFIRMED
SEQUENCE:0
END:VEVENT
END:VCALENDAR