BEGIN:VCALENDAR
VERSION:2.0
CALSCALE:GREGORIAN
BEGIN:VEVENT
SUMMARY:Yoga facial y relaxing yoga
DTSTART;TZID=Europe/Madrid:20241213T151500
DTEND;TZID=Europe/Madrid:20241213T161500
LOCATION:Namoa Bienestar - Nules
DESCRIPTION: 
STATUS:CONFIRMED
SEQUENCE:0
END:VEVENT
END:VCALENDAR