BEGIN:VCALENDAR
VERSION:2.0
CALSCALE:GREGORIAN
BEGIN:VEVENT
SUMMARY:Cours de yoga ouvert à la réservation
DTSTART;TZID=Europe/Paris:20240406T103000
DTEND;TZID=Europe/Paris:20240406T113000
LOCATION:Studio Biche Yoga - 21 rue du Pont de Forge - La Chapelle-sur-Erdre
DESCRIPTION: Cours accessible aux débutants.
5 personnes maximum par cours.
Type de yoga : doux (Hatha - Yin - Iyengar)
Cours de yoga hebdomadaire.
Accessible aux débutants. 
5 personnes maximum par cours.
Type de yoga : Hatha - Yin - Iyengar-fonctionnel
Etirements profonds / renforcement musculaire / amélioration de la posture globale / amélioration de l&#039;équilibre / approfondissement posturaux et philosophiques des asanas de base / relaxation / pratiques respiratoires douces / développement de la confiance en soi et en son corps.
STATUS:CONFIRMED
SEQUENCE:0
END:VEVENT
END:VCALENDAR