BEGIN:VCALENDAR
VERSION:2.0
CALSCALE:GREGORIAN
BEGIN:VEVENT
SUMMARY:Gentle Hatha &amp; Restoritive 💜
DTSTART;TZID=Europe/Brussels:20260427T203000
DTEND;TZID=Europe/Brussels:20260427T213000
LOCATION:Meeuwstraat 4A 2440 Geel
DESCRIPTION: Gentle Hatha &amp; Restorative 

Een uitgebalanceerde les in twee delen.
We beginnen met zachte, vloeiende Hatha-houdingen, waarbij we met aandacht bewegen en het lichaam soepel maken. 
Het tweede deel is een lange, diep ontspannende Restorative sessie, waarin we volledig ondersteunde poses langer aanhouden met behulp van props zoals bolsters, blokken, dekens en kussens. 
De perfecte yogales om stress los te laten en helemaal op te laden.

Voor iedereen toegankelijk!
STATUS:CONFIRMED
SEQUENCE:0
END:VEVENT
END:VCALENDAR