BEGIN:VCALENDAR
VERSION:2.0
CALSCALE:GREGORIAN
BEGIN:VEVENT
SUMMARY:Vinyasa Yoga
DTSTART;TZID=Europe/Paris:20251225T181500
DTEND;TZID=Europe/Paris:20251225T193000
LOCATION:Studio 7, Hésingue
DESCRIPTION: Le Vinyasa est un style de yoga créatif et fluide où chaque cours propose une nouveauté, les postures s&#039;enchaînant au rythme de la respiration dans des séquences courtes et régulières. La pratique favorise l&#039;étirement et le relâchement, visant à trouver le juste équilibre entre mobilité et souplesse. Cet équilibre rend la pratique à la fois ancrée et dynamique, une façon d&#039;explorer le potentiel de votre corps tout en cultivant stabilité, résilience et aisance. Les débutants sont les bienvenus ; cependant, en raison du rythme parfois soutenu du cours, une bonne condition physique est recommandée.
STATUS:CONFIRMED
SEQUENCE:0
END:VEVENT
END:VCALENDAR