BEGIN:VCALENDAR
VERSION:2.0
CALSCALE:GREGORIAN
BEGIN:VEVENT
SUMMARY:Yoga en ligne : Maitriser les extensions : 2 postures clés
DTSTART;TZID=Europe/Paris:20260426T100000
DTEND;TZID=Europe/Paris:20260426T111000
LOCATION:
DESCRIPTION: La session débute par une théorie visuelle sur le thème pour donner les clés de compréhension, suivie d&#039;une pratique posturale.
Cours sur Zoom.
Veuillez vous placer de telle manière que vous êtes visible en entier sur l écran et bien illuminé, vous pourrez ainsi profiter de corrections personnalisées.
Le tarif vaut pour un écran (cela veut dire que plusieurs personnes peuvent se joindre sur un seul écran : famille, conjoint, enfants...).
Une fois réservé, vous recevrez l email avec le lien d accès environ 30 min avant le début du cours.
STATUS:CONFIRMED
SEQUENCE:0
END:VEVENT
END:VCALENDAR