BEGIN:VCALENDAR
VERSION:2.0
CALSCALE:GREGORIAN
BEGIN:VEVENT
SUMMARY:🎵 Mantra Chanten
DTSTART;TZID=Europe/Amsterdam:20251008T200000
DTEND;TZID=Europe/Amsterdam:20251008T210000
LOCATION:Neo Yoga Delft
DESCRIPTION: Één keer per maand is er mantra chanten met Gowri in plaats van de Restorative les.
STATUS:CONFIRMED
SEQUENCE:0
END:VEVENT
END:VCALENDAR