BEGIN:VCALENDAR
VERSION:2.0
CALSCALE:GREGORIAN
BEGIN:VEVENT
SUMMARY:Studio bezet: Familieopstellingen
DTSTART;TZID=Europe/Amsterdam:20251012T123000
DTEND;TZID=Europe/Amsterdam:20251012T163000
LOCATION:Neo Yoga Delft
DESCRIPTION: 
STATUS:CONFIRMED
SEQUENCE:0
END:VEVENT
END:VCALENDAR