BEGIN:VCALENDAR
VERSION:2.0
CALSCALE:GREGORIAN
BEGIN:VEVENT
SUMMARY:Vinyasa Hôtel Saint-Julien
DTSTART;TZID=Europe/Paris:20260411T104500
DTEND;TZID=Europe/Paris:20260411T114500
LOCATION:Hôtel Saint Julien, 20 Av. Carnot, 64200 Biarritz
DESCRIPTION: Les cours se déroulent à l’Hôtel Saint Julien à Biarritz, 20 Av. Carnot, 64200 Biarritz
STATUS:CONFIRMED
SEQUENCE:0
END:VEVENT
END:VCALENDAR