BEGIN:VCALENDAR
VERSION:2.0
CALSCALE:GREGORIAN
BEGIN:VEVENT
SUMMARY:Roll and Release
DTSTART;TZID=America/Los_Angeles:20230511T103000
DTEND;TZID=America/Los_Angeles:20230511T115000
LOCATION:New Moon Yoga Studio
DESCRIPTION: Laura S. teaches with foam rollers. The class is designed to promote Myofascial (my-o-FASH-e-ul) release. Come to class to find out what type of foam roller you should purchase.
STATUS:CONFIRMED
SEQUENCE:0
END:VEVENT
END:VCALENDAR