BEGIN:VCALENDAR
VERSION:2.0
CALSCALE:GREGORIAN
BEGIN:VEVENT
SUMMARY:Vinyasa yoga with Hannah (sub)
DTSTART;TZID=America/Los_Angeles:20260414T173000
DTEND;TZID=America/Los_Angeles:20260414T183000
LOCATION:New Moon Yoga Studio
DESCRIPTION: 
STATUS:CONFIRMED
SEQUENCE:0
END:VEVENT
END:VCALENDAR