BEGIN:VCALENDAR
VERSION:2.0
CALSCALE:GREGORIAN
BEGIN:VEVENT
SUMMARY:Chair Yoga w/Sallie
DTSTART;TZID=America/Los_Angeles:20260509T120000
DTEND;TZID=America/Los_Angeles:20260509T131500
LOCATION:New Moon Yoga Studio
DESCRIPTION: All the benefits of regular yoga adapted for using a chair.
STATUS:CONFIRMED
SEQUENCE:0
END:VEVENT
END:VCALENDAR