BEGIN:VCALENDAR
VERSION:2.0
CALSCALE:GREGORIAN
BEGIN:VEVENT
SUMMARY:Ashtanga Yoga Anfänger
DTSTART;TZID=Europe/Berlin:20250704T180000
DTEND;TZID=Europe/Berlin:20250704T190000
LOCATION:Yoga Boga
DESCRIPTION: Präventionskurs mit 8 Terminen für Einsteiger und Wiedereinsteiger.
Wir üben die Sonnengrüße, Standpositionen und ersten Sitzhaltung der ersten Serie.
Dabei liegt der Fokus auf tiefer Atmung, Aufrichtung der Wirbelsäule und einer starken Mitte.
STATUS:CONFIRMED
SEQUENCE:0
END:VEVENT
END:VCALENDAR