BEGIN:VCALENDAR
VERSION:2.0
CALSCALE:GREGORIAN
BEGIN:VEVENT
SUMMARY:Yoga in de tuin
DTSTART;TZID=Europe/Amsterdam:20250625T183000
DTEND;TZID=Europe/Amsterdam:20250625T193000
LOCATION:De Klef 5, Sint Anthonis
DESCRIPTION: 
STATUS:CONFIRMED
SEQUENCE:0
END:VEVENT
END:VCALENDAR