BEGIN:VCALENDAR
VERSION:2.0
CALSCALE:GREGORIAN
BEGIN:VEVENT
SUMMARY:Yoga Nidra in de tuin
DTSTART;TZID=Europe/Amsterdam:20250703T194500
DTEND;TZID=Europe/Amsterdam:20250703T204500
LOCATION:De Klef 5, Sint Anthonis
DESCRIPTION: 
STATUS:CONFIRMED
SEQUENCE:0
END:VEVENT
END:VCALENDAR