BEGIN:VCALENDAR
VERSION:2.0
CALSCALE:GREGORIAN
BEGIN:VEVENT
SUMMARY:Autumn Rest and Release day retreat
DTSTART;TZID=Europe/Madrid:20221008T103000
DTEND;TZID=Europe/Madrid:20221008T163000
LOCATION:Nomada retreat
DESCRIPTION: Join Kat &amp;amp; Laura for a day of nourishment for the body and mind.

We will welcome the change of season with guided Breathwork Yin yoga Myofascial release and Yoga nidra 

A delicious wholesome lunch and sweet treat included
STATUS:CONFIRMED
SEQUENCE:0
END:VEVENT
END:VCALENDAR