BEGIN:VCALENDAR
VERSION:2.0
CALSCALE:GREGORIAN
BEGIN:VEVENT
SUMMARY:Sound Bath
DTSTART;TZID=Europe/London:20260425T103000
DTEND;TZID=Europe/London:20260425T113000
LOCATION:Nova
DESCRIPTION: Join Lynsey for a nourishing Saturday morning sound bath, where you’ll be bathed in the healing vibrations of singing bowls, chimes, gongs, and other sacred instruments. 

Expect the vibrations to guide you into a deep meditative state where sound becomes a portal to renewal. The resonant frequencies clear stagnant energy, harmonize the body, and open space for reflection, grounding, and inner clarity.

This sound journey is a sacred pause - a moment to honour and reconnect with your inner wisdom, and rest in the embrace of healing vibration.

We are offering this sound bath at an introductory half price of £10 - book with our Sound Bath Intro pass ✨

*Please bring anything extra you need to make yourself super cosy - blankets, pillows, extra socks, and warm layers are encouraged to fully relax and settle into the experience*
STATUS:CONFIRMED
SEQUENCE:0
END:VEVENT
END:VCALENDAR