BEGIN:VCALENDAR
VERSION:2.0
CALSCALE:GREGORIAN
BEGIN:VEVENT
SUMMARY:PADDLE : Balade découverte
DTSTART;TZID=Europe/Paris:20251117T170000
DTEND;TZID=Europe/Paris:20251117T183000
LOCATION:Départ NUMAR
DESCRIPTION: Cap sur le Vallon des Auffes pour une sortie magique à la découverte de Marseille… vue de la mer ! Après une petite initiation pour être à l’aise sur ton paddle, Fiona, notre monitrice passionnée, t’emmènera voguer au rythme du groupe et de la météo. Débutant ou confirmé, tout le monde y trouve son plaisir !
STATUS:CONFIRMED
SEQUENCE:0
END:VEVENT
END:VCALENDAR