BEGIN:VCALENDAR
VERSION:2.0
CALSCALE:GREGORIAN
BEGIN:VEVENT
SUMMARY:Sacred Sound Healing with New Age Live Music: Taught by Rebecca and Lawrence
DTSTART;TZID=Europe/London:20221113T190000
DTEND;TZID=Europe/London:20221113T203000
LOCATION:Nurture Saddleworth
DESCRIPTION: Sacred sound healing instruments uniquely combined with live acoustic guitar, Native American flute, and ambient soundscapes makes this a sound bath to touch your soul.
 

Join holistic therapist Rebecca and New Age artist Lawrence Libert for this 90-minute healing session combining sound therapy, Reiki and guided meditation. 

Sound healing is growing in popularity as more and more people are realising it&#039;s healing potential. Each session flows with intuitive playing from Rebecca and well-rehearsed tracks from Lawrence&#039;s latest albums which are also available on major streaming platforms for you to listen to at home.
STATUS:CONFIRMED
SEQUENCE:0
END:VEVENT
END:VCALENDAR