BEGIN:VCALENDAR
VERSION:2.0
CALSCALE:GREGORIAN
BEGIN:VEVENT
SUMMARY:Beginners Yoga: Taught by Sophie Coggins
DTSTART;TZID=Europe/London:20230314T181500
DTEND;TZID=Europe/London:20230314T191500
LOCATION:Nurture Saddleworth
DESCRIPTION: This class is for complete newcomers to yoga or those who would like to go back to basics. It will help you build a strong foundation and will inspire you to explore yoga in all its forms. Suitable for everyone.
(This drop in class will be available for 2 weeks before the 4x week beginners course restarts on Tuesday 4th April)
STATUS:CONFIRMED
SEQUENCE:0
END:VEVENT
END:VCALENDAR