BEGIN:VCALENDAR
VERSION:2.0
CALSCALE:GREGORIAN
BEGIN:VEVENT
SUMMARY:Online Mat Pilates
DTSTART;TZID=Australia/Adelaide:20220202T103000
DTEND;TZID=Australia/Adelaide:20220202T113000
LOCATION:Your space
DESCRIPTION: Part of our Fitness Sessions pack
Join us via Zoom
Great way to join us at Pt Elliot when you can’t make it in person.
STATUS:CONFIRMED
SEQUENCE:0
END:VEVENT
END:VCALENDAR