BEGIN:VCALENDAR
VERSION:2.0
CALSCALE:GREGORIAN
BEGIN:VEVENT
SUMMARY:Fitness session
DTSTART;TZID=Australia/Adelaide:20220125T090000
DTEND;TZID=Australia/Adelaide:20220125T094000
LOCATION:Studio
DESCRIPTION: 
STATUS:CONFIRMED
SEQUENCE:0
END:VEVENT
END:VCALENDAR