BEGIN:VCALENDAR
VERSION:2.0
CALSCALE:GREGORIAN
BEGIN:VEVENT
SUMMARY:Flow Hatha
DTSTART;TZID=Europe/Copenhagen:20260615T170000
DTEND;TZID=Europe/Copenhagen:20260615T180000
LOCATION:Fluebjerg Gaard
DESCRIPTION: Klassen er for dig, der er fortrolig med de grundlæggende hatha-stillinger. Du får en times yoga med klassiske hatha-stillinger, der kombineres med mere flydende bevægelser i en dynamisk praksis, hvor stillingerne flettes sammen i et flow. Der er fokus på at opbygge styrke, smidighed og kropsbevidsthed, og samtidig fremme mental ro og balance.
STATUS:CONFIRMED
SEQUENCE:0
END:VEVENT
END:VCALENDAR