BEGIN:VCALENDAR
VERSION:2.0
CALSCALE:GREGORIAN
BEGIN:VEVENT
SUMMARY:Yoga Dynamique @Quai à St Germain - VINYASA &amp; RELAX (énergisant &amp; créatif)
DTSTART;TZID=Europe/Paris:20240517T180000
DTEND;TZID=Europe/Paris:20240517T191500
LOCATION:Quai des Possibles
DESCRIPTION: ♥ Enchaînement énergisant, créatif et souffle pour sculpter le corps et apaiser le mental !

Anastasia vous guide progressivement vers l&#039;enchaînement des mouvements énergisant en pleine conscience, liant le souffle, les sensations, la chaleur, les postures... Une détente relaxante en Savasana, allongé sur le dos, vous attend à la fin de la séance. Une invitation à explorer votre être sur les plans physique, émotionnel, mental et spirituel.

NIVEAU: Tous niveaux (débutants - bonne condition physique)

RDV: 10 min avant le début dans l&#039;espace &quot;Bulle pour soi&quot; au rdc du Quai (parking gratuit devant /à 5&#039; du centre ville en T13)
STATUS:CONFIRMED
SEQUENCE:0
END:VEVENT
END:VCALENDAR